BEGIN:VCALENDAR
VERSION:2.0
PRODID:-//Plone.org//NONSGML plone.app.event//EN
X-WR-TIMEZONE:Europe/Madrid
BEGIN:VEVENT
SUMMARY:Los Mambo Jambo
DTSTART;TZID=Europe/Madrid;VALUE=DATE-TIME:20220805T220000
DTEND;TZID=Europe/Madrid;VALUE=DATE-TIME:20220805T230000
DTSTAMP;VALUE=DATE-TIME:20260425T161122Z
UID:f18d875541437b3ff5bacff4276cab28
CREATED;VALUE=DATE-TIME:20220805T000000Z
CATEGORIES:Música
LOCATION:Pati del Xifré - Auterive, s/n
ORGANIZER:Regidoria de Cultura
COMMENT:Preu: Aforament limitat. 10&euro; entrades anticipades i 12&euro; a taquilla (en metàl·lic)
URL:https://arenysdemar.cat/document.php?id=42118
END:VEVENT
END:VCALENDAR