BEGIN:VCALENDAR
VERSION:2.0
PRODID:-//Plone.org//NONSGML plone.app.event//EN
X-WR-TIMEZONE:Europe/Madrid
BEGIN:VEVENT
SUMMARY:Festa al carrer Can Nadal
DTSTART;TZID=Europe/Madrid;VALUE=DATE-TIME:20220623T170000
DTEND;TZID=Europe/Madrid;VALUE=DATE-TIME:20220623T180000
DTSTAMP;VALUE=DATE-TIME:20260423T160133Z
UID:13e66f8c3944a65803ddd644288c8e14
CREATED;VALUE=DATE-TIME:20220623T000000Z
CATEGORIES:Festa
LOCATION:al carrer Can Nadal
ORGANIZER:Comissió de festes carrer Can Nadal
COMMENT:Durada: fins el 24 de juny a les 2h de la matinada.
URL:https://arenysdemar.cat/document.php?id=42124
END:VEVENT
END:VCALENDAR