BEGIN:VCALENDAR
VERSION:2.0
PRODID:-//Plone.org//NONSGML plone.app.event//EN
X-WR-TIMEZONE:Europe/Madrid
BEGIN:VEVENT
SUMMARY:Festa al carrer de la Font
DTSTART;TZID=Europe/Madrid;VALUE=DATE-TIME:20220715T200000
DTEND;TZID=Europe/Madrid;VALUE=DATE-TIME:20220715T210000
DTSTAMP;VALUE=DATE-TIME:20260423T231813Z
UID:db32b00e06fa6f40404f64a9efb237a9
CREATED;VALUE=DATE-TIME:20220715T000000Z
CATEGORIES:Festa
LOCATION:al carrer de la Font
ORGANIZER:Comissió de festes carrer de la Font.
COMMENT:Durada: fins el 17 de juliol.
URL:https://arenysdemar.cat/document.php?id=42128
END:VEVENT
END:VCALENDAR