BEGIN:VCALENDAR
VERSION:2.0
PRODID:-//Plone.org//NONSGML plone.app.event//EN
X-WR-TIMEZONE:Europe/Madrid
BEGIN:VEVENT
SUMMARY:Barraques
DTSTART;TZID=Europe/Madrid;VALUE=DATE-TIME:20220709T233000
DTEND;TZID=Europe/Madrid;VALUE=DATE-TIME:20220710T003000
DTSTAMP;VALUE=DATE-TIME:20260423T150405Z
UID:0901cdd4ea8fe63c58a87ac03d2bab43
CREATED;VALUE=DATE-TIME:20220709T000000Z
CATEGORIES:Festa,Música
LOCATION:Platja Picòrdia
ORGANIZER:Pubillatge, Jovent Dissident, Patronat de Sant Roc, Cau Flos i Calcat i Regidoria de Joventut
URL:https://arenysdemar.cat/document.php?id=42171
END:VEVENT
END:VCALENDAR