BEGIN:VCALENDAR
VERSION:2.0
PRODID:-//Plone.org//NONSGML plone.app.event//EN
X-WR-TIMEZONE:Europe/Madrid
BEGIN:VEVENT
SUMMARY:Taller Artteràpia
DTSTART;TZID=Europe/Madrid;VALUE=DATE-TIME:20220517T180000
DTEND;TZID=Europe/Madrid;VALUE=DATE-TIME:20220517T190000
DTSTAMP;VALUE=DATE-TIME:20260424T233615Z
UID:ea4986ac762d8da18d80f11a191a6a5b
CREATED;VALUE=DATE-TIME:20220517T000000Z
CATEGORIES:Cursos
LOCATION:Sala Gran d'entitats del C.C. Calisay - Riera Pare Fita, 31
ORGANIZER:Ajuntament d'Arenys de Mar. Col·labora amb Alba Serra
COMMENT:Durada: 1h30 - Tallers 17, 24 i 31 de maig a les 18:00h a 19:30h
DESCRIPTION:a càrrec d'Alba Serra
URL:https://arenysdemar.cat/document.php?id=42174
END:VEVENT
END:VCALENDAR