BEGIN:VCALENDAR
VERSION:2.0
PRODID:-//Plone.org//NONSGML plone.app.event//EN
X-WR-TIMEZONE:Europe/Madrid
BEGIN:VEVENT
SUMMARY:La (trans)ició de la moda. Lectura de la moda i els cossos dissidents en el pas del temps
DTSTART;TZID=Europe/Madrid;VALUE=DATE-TIME:20220603T180000
DTEND;TZID=Europe/Madrid;VALUE=DATE-TIME:20220603T190000
DTSTAMP;VALUE=DATE-TIME:20260421T015513Z
UID:7a2d68672c211728b001f6eb692a354f
CREATED;VALUE=DATE-TIME:20220603T000000Z
CATEGORIES:Conferència
LOCATION:Bar Seràfics
ORGANIZER:Jovent Dissident
DESCRIPTION:a càrrec d'Hera
URL:https://arenysdemar.cat/document.php?id=42199
END:VEVENT
END:VCALENDAR