BEGIN:VCALENDAR
VERSION:2.0
PRODID:-//Plone.org//NONSGML plone.app.event//EN
X-WR-TIMEZONE:Europe/Madrid
BEGIN:VEVENT
SUMMARY:Presentació de l'exposició: Homenatge a Lluís Llach: Les seves cançons a punta de bic
DTSTART;TZID=Europe/Madrid;VALUE=DATE-TIME:20220609T190000
DTEND;TZID=Europe/Madrid;VALUE=DATE-TIME:20220609T200000
DTSTAMP;VALUE=DATE-TIME:20260420T170703Z
UID:2add5d83fa5cd14f9186442549a91f38
CREATED;VALUE=DATE-TIME:20220609T000000Z
CATEGORIES:Exposició
LOCATION:Sala Noble del C.C.Calisay - Riera Pare Fita, 31
ORGANIZER:Assemblea Nacional Catalana Arenys de Mar i Consell Local per la República Arenys de Mar
DESCRIPTION:a càrrec del seu seu creador Jordi Magrià
URL:https://arenysdemar.cat/document.php?id=42220
END:VEVENT
END:VCALENDAR