BEGIN:VCALENDAR
VERSION:2.0
PRODID:-//Plone.org//NONSGML plone.app.event//EN
X-WR-TIMEZONE:Europe/Madrid
BEGIN:VEVENT
SUMMARY:Tertúlia de novel·la: L' Ordre del dia" d'Éric Vuillard
DTSTART;TZID=Europe/Madrid;VALUE=DATE-TIME:20220620T190000
DTEND;TZID=Europe/Madrid;VALUE=DATE-TIME:20220620T200000
DTSTAMP;VALUE=DATE-TIME:20260421T161209Z
UID:05eb3a4e34586dc6f890ace0407599fc
CREATED;VALUE=DATE-TIME:20220620T000000Z
CATEGORIES:Literatura
LOCATION:Sala d'Actes de la Biblioteca - C. Bonaire, 3
ORGANIZER:Biblioteca - Regidoria de Cultura
DESCRIPTION:moderada per Enric Agustí
URL:https://arenysdemar.cat/document.php?id=42221
END:VEVENT
END:VCALENDAR