BEGIN:VCALENDAR
VERSION:2.0
PRODID:-//Plone.org//NONSGML plone.app.event//EN
X-WR-TIMEZONE:Europe/Madrid
BEGIN:VEVENT
SUMMARY:8a Fira de la Cervesa Artesana
DTSTART;TZID=Europe/Madrid;VALUE=DATE-TIME:20220528T120000
DTEND;TZID=Europe/Madrid;VALUE=DATE-TIME:20220528T130000
DTSTAMP;VALUE=DATE-TIME:20260419T180644Z
UID:79568373136bfc77c662e4d58905c644
CREATED;VALUE=DATE-TIME:20220528T000000Z
CATEGORIES:Mostra
ORGANIZER:Ajuntament d'Arenys de Mar i Synera Cervesa
COMMENT:Durada: Fins a les 12 de la nit
URL:https://arenysdemar.cat/document.php?id=42231
END:VEVENT
END:VCALENDAR