BEGIN:VCALENDAR
VERSION:2.0
PRODID:-//Plone.org//NONSGML plone.app.event//EN
X-WR-TIMEZONE:Europe/Madrid
BEGIN:VEVENT
SUMMARY:Torneig Social de Tennis-taula
DTSTART;TZID=Europe/Madrid;VALUE=DATE-TIME:20220619T093000
DTEND;TZID=Europe/Madrid;VALUE=DATE-TIME:20220619T103000
DTSTAMP;VALUE=DATE-TIME:20260421T061738Z
UID:928f0c5b9189268595de30a2863b50e4
CREATED;VALUE=DATE-TIME:20220619T000000Z
CATEGORIES:Esports,Mostra
LOCATION:Ateneu Arenyenc - Anselm Clavé, 22
ORGANIZER:Secció de tennis de taula de l'Ateneu
URL:https://arenysdemar.cat/document.php?id=42327
END:VEVENT
END:VCALENDAR