BEGIN:VCALENDAR
VERSION:2.0
PRODID:-//Plone.org//NONSGML plone.app.event//EN
X-WR-TIMEZONE:Europe/Madrid
BEGIN:VEVENT
SUMMARY:Teatre: L'home orquestra
DTSTART;TZID=Europe/Madrid;VALUE=DATE-TIME:20220711T220000
DTEND;TZID=Europe/Madrid;VALUE=DATE-TIME:20220711T230000
DTSTAMP;VALUE=DATE-TIME:20260420T203909Z
UID:bc8e9f2cba207e0edb8157148773f1b1
CREATED;VALUE=DATE-TIME:20220711T000000Z
CATEGORIES:Festa,Teatre
LOCATION:Riera zona nova coberta - Riera zona nova coberta
ORGANIZER:Regidoria de Festes
DESCRIPTION:a càrrec de Peyu
URL:https://arenysdemar.cat/document.php?id=42342
END:VEVENT
END:VCALENDAR