BEGIN:VCALENDAR
VERSION:2.0
PRODID:-//Plone.org//NONSGML plone.app.event//EN
X-WR-TIMEZONE:Europe/Madrid
BEGIN:VEVENT
SUMMARY:Encesa de les llumenetes i crema de la bota
DTSTART;TZID=Europe/Madrid;VALUE=DATE-TIME:20220629T220000
DTEND;TZID=Europe/Madrid;VALUE=DATE-TIME:20220629T230000
DTSTAMP;VALUE=DATE-TIME:20260423T233017Z
UID:0878377c360a9367e227710056df0fca
CREATED;VALUE=DATE-TIME:20220629T000000Z
CATEGORIES:Festa
LOCATION:Plaça de l'Església - Plaça de l'Església
ORGANIZER:Grup Crema de la Bota, Parròquia de Santa Maria i Ajuntament d'Arenys de Mar
DESCRIPTION:336è aniversari de la dedicació del temple parroquial
URL:https://arenysdemar.cat/document.php?id=42363
END:VEVENT
END:VCALENDAR