BEGIN:VCALENDAR
VERSION:2.0
PRODID:-//Plone.org//NONSGML plone.app.event//EN
X-WR-TIMEZONE:Europe/Madrid
BEGIN:VEVENT
SUMMARY:Arenys de Contes. Festival d'estiu de contes per a adults: De petit volia ser pirata
DTSTART;TZID=Europe/Madrid;VALUE=DATE-TIME:20220810T220000
DTEND;TZID=Europe/Madrid;VALUE=DATE-TIME:20220810T230000
DTSTAMP;VALUE=DATE-TIME:20260426T055137Z
UID:8fef10c3110a8c4758d297529d13ef6b
CREATED;VALUE=DATE-TIME:20220810T000000Z
CATEGORIES:Literatura
LOCATION:Biblioplatja - Platja de la Picòrdia
ORGANIZER:Biblioteca - Regidoria de Cultura
DESCRIPTION:a càrrec de Pep Duran
URL:https://arenysdemar.cat/document.php?id=42393
END:VEVENT
END:VCALENDAR