BEGIN:VCALENDAR
VERSION:2.0
PRODID:-//Plone.org//NONSGML plone.app.event//EN
X-WR-TIMEZONE:Europe/Madrid
BEGIN:VEVENT
SUMMARY:Hora del conte i taller per a infants: A l'estiu tota cuca viu
DTSTART;TZID=Europe/Madrid;VALUE=DATE-TIME:20220811T183000
DTEND;TZID=Europe/Madrid;VALUE=DATE-TIME:20220811T193000
DTSTAMP;VALUE=DATE-TIME:20260426T055232Z
UID:ca2e41281fcd7d3a50bcaf68040db718
CREATED;VALUE=DATE-TIME:20220811T000000Z
CATEGORIES:Literatura,Infantils
LOCATION:Biblioplatja - Platja de la Picòrdia
ORGANIZER:Biblioteca - Regidoria de Cultura
DESCRIPTION:a càrrec de Susagna Navó
URL:https://arenysdemar.cat/document.php?id=42394
END:VEVENT
END:VCALENDAR