BEGIN:VCALENDAR
VERSION:2.0
PRODID:-//Plone.org//NONSGML plone.app.event//EN
X-WR-TIMEZONE:Europe/Madrid
BEGIN:VEVENT
SUMMARY:Fem castells de sorra
DTSTART;TZID=Europe/Madrid;VALUE=DATE-TIME:20220812T100000
DTEND;TZID=Europe/Madrid;VALUE=DATE-TIME:20220812T110000
DTSTAMP;VALUE=DATE-TIME:20260426T055216Z
UID:e778abdf1ae64ebad32eef33507e57e6
CREATED;VALUE=DATE-TIME:20220812T000000Z
CATEGORIES:Infantils
LOCATION:Biblioplatja - Platja de la Picòrdia
ORGANIZER:Biblioteca - Regidoria de Cultura
COMMENT:Preu: Inscripcions a la Biblioteca i/o a la Biblioplatja - Places limitades
URL:https://arenysdemar.cat/document.php?id=42395
END:VEVENT
END:VCALENDAR