BEGIN:VCALENDAR
VERSION:2.0
PRODID:-//Plone.org//NONSGML plone.app.event//EN
X-WR-TIMEZONE:Europe/Madrid
BEGIN:VEVENT
SUMMARY:50es Jornades internacionals folklòriques de Catalunya: Romania
DTSTART;TZID=Europe/Madrid;VALUE=DATE-TIME:20220904T180000
DTEND;TZID=Europe/Madrid;VALUE=DATE-TIME:20220904T190000
DTSTAMP;VALUE=DATE-TIME:20260420T203133Z
UID:52e09389a8133d36455419d9bd239f03
CREATED;VALUE=DATE-TIME:20220904T000000Z
CATEGORIES:Música
LOCATION:Teatre Principal - C. Església, 45-47
ORGANIZER:Regidoria de Cultura i Adifolk
COMMENT:Preu: Aforament limitat. Treu la teva invitació a partir del 30 d'agost a través del portal web del Teatre Principal
DESCRIPTION:Ensemble Folk Româna&#537;ul, grup folklòric de Romania
URL:https://arenysdemar.cat/document.php?id=42428
END:VEVENT
END:VCALENDAR