BEGIN:VCALENDAR
VERSION:2.0
PRODID:-//Plone.org//NONSGML plone.app.event//EN
X-WR-TIMEZONE:Europe/Madrid
BEGIN:VEVENT
SUMMARY:El "Mercadillu" d'en Plaza
DTSTART;TZID=Europe/Madrid;VALUE=DATE-TIME:20220724T090000
DTEND;TZID=Europe/Madrid;VALUE=DATE-TIME:20220724T100000
DTSTAMP;VALUE=DATE-TIME:20260423T150435Z
UID:613c62e2f8db14bab42e77a50d1eff24
CREATED;VALUE=DATE-TIME:20220724T000000Z
CATEGORIES:Festa,Medi ambient
LOCATION:Riera Bisbe Pol i Riera Pare Fita (del Calisay a la Krusan)
ORGANIZER:AVAM
COMMENT:Preu: Inscripció 5 euros.
Durada: De 9h a 16h
DESCRIPTION:Festa de la re-utilització i reciclatge.
URL:https://arenysdemar.cat/document.php?id=42501
END:VEVENT
END:VCALENDAR