BEGIN:VCALENDAR
VERSION:2.0
PRODID:-//Plone.org//NONSGML plone.app.event//EN
X-WR-TIMEZONE:Europe/Madrid
BEGIN:VEVENT
SUMMARY:Concurs de crits
DTSTART;TZID=Europe/Madrid;VALUE=DATE-TIME:20220813T190000
DTEND;TZID=Europe/Madrid;VALUE=DATE-TIME:20220813T200000
DTSTAMP;VALUE=DATE-TIME:20260422T023741Z
UID:48c687924eedf321a46080fd0016de75
CREATED;VALUE=DATE-TIME:20220813T000000Z
CATEGORIES:Festa,Infantils
LOCATION:Plaça de les Palmeres
ORGANIZER:Regidoria de Festes
DESCRIPTION:Vine i crida amb nosaltres!
URL:https://arenysdemar.cat/document.php?id=42563
END:VEVENT
END:VCALENDAR