BEGIN:VCALENDAR
VERSION:2.0
PRODID:-//Plone.org//NONSGML plone.app.event//EN
X-WR-TIMEZONE:Europe/Madrid
BEGIN:VEVENT
SUMMARY:Conferència: Com acompanyem i sostenim les emocions dels infants
DTSTART;TZID=Europe/Madrid;VALUE=DATE-TIME:20230303T190000
DTEND;TZID=Europe/Madrid;VALUE=DATE-TIME:20230303T200000
DTSTAMP;VALUE=DATE-TIME:20260424T051158Z
UID:4d702939f759d4fd57c74a45a6fe8161
CREATED;VALUE=DATE-TIME:20230303T000000Z
CATEGORIES:Conferència
LOCATION:Ateneu Arenyenc - Anselm Clavé, 22
ORGANIZER:Col·lectiu de reflexió sobre la infància i adolescència
COMMENT:Durada: Una hora
URL:https://arenysdemar.cat/document.php?id=42716
END:VEVENT
END:VCALENDAR