BEGIN:VCALENDAR
VERSION:2.0
PRODID:-//Plone.org//NONSGML plone.app.event//EN
X-WR-TIMEZONE:Europe/Madrid
BEGIN:VEVENT
SUMMARY:Conferència: Hi ha vida després de la mort física?
DTSTART;TZID=Europe/Madrid;VALUE=DATE-TIME:20230127T190000
DTEND;TZID=Europe/Madrid;VALUE=DATE-TIME:20230127T200000
DTSTAMP;VALUE=DATE-TIME:20260424T183857Z
UID:1003ed68f9fb91c6152bbd76c1d7c500
CREATED;VALUE=DATE-TIME:20230127T000000Z
CATEGORIES:Conferència
LOCATION:Biblioteca - Bonaire, 2
ORGANIZER:Col·lectiu de reflexió sobre la infància i adolescència i Biblioteca - Regidoria de Cultura
COMMENT:Durada: Una hora
DESCRIPTION:Conferència - Col·loqui a càrrec del Dr. Manuel Sans Segarra, especialista en cirurgia general i digestiva. Professor de cirurgia de la UB
URL:https://arenysdemar.cat/document.php?id=42718
END:VEVENT
END:VCALENDAR