BEGIN:VCALENDAR
VERSION:2.0
PRODID:-//Plone.org//NONSGML plone.app.event//EN
X-WR-TIMEZONE:Europe/Madrid
BEGIN:VEVENT
SUMMARY:Converses a la carta en anglès
DTSTART;TZID=Europe/Madrid;VALUE=DATE-TIME:20221005T190000
DTEND;TZID=Europe/Madrid;VALUE=DATE-TIME:20221005T200000
DTSTAMP;VALUE=DATE-TIME:20260420T165111Z
UID:126615607423c4b8ca83d022856709dc
CREATED;VALUE=DATE-TIME:20221005T000000Z
CATEGORIES:Cursos
LOCATION:Sala d'Actes de la Biblioteca - C. Bonaire, 3
ORGANIZER:Biblioteca - Regidoria de Cultura
DESCRIPTION:a càrrec de Leonora de Groot Bogaarts
URL:https://arenysdemar.cat/document.php?id=42729
END:VEVENT
END:VCALENDAR