BEGIN:VCALENDAR
VERSION:2.0
PRODID:-//Plone.org//NONSGML plone.app.event//EN
X-WR-TIMEZONE:Europe/Madrid
BEGIN:VEVENT
SUMMARY:Arenys, el mar i l´estiueig
DTSTART;TZID=Europe/Madrid;VALUE=DATE-TIME:20221030T110000
DTEND;TZID=Europe/Madrid;VALUE=DATE-TIME:20221030T120000
DTSTAMP;VALUE=DATE-TIME:20260420T075923Z
UID:988238592f8109689e40a5fc40ec4035
CREATED;VALUE=DATE-TIME:20221030T000000Z
CATEGORIES:Mostra
LOCATION:Plaça de l'Ajuntament - Riera Bisbe Pol, 8
ORGANIZER:Ajuntament d'Arenys de Mar
COMMENT:Preu: Gratuït. Places limitades. Cal reserva prèvia a turisme@arenysdemar.cat o al telèfon 937957039
DESCRIPTION:a càrrec d´en Joan Miquel Llodrà, guia habilitat per la Generalitat de Catalunya
URL:https://arenysdemar.cat/document.php?id=42856
END:VEVENT
END:VCALENDAR