BEGIN:VCALENDAR
VERSION:2.0
PRODID:-//Plone.org//NONSGML plone.app.event//EN
X-WR-TIMEZONE:Europe/Madrid
BEGIN:VEVENT
SUMMARY:Hora del conte: I tu, t'enfades?
DTSTART;TZID=Europe/Madrid;VALUE=DATE-TIME:20221103T180000
DTEND;TZID=Europe/Madrid;VALUE=DATE-TIME:20221103T190000
DTSTAMP;VALUE=DATE-TIME:20260420T153108Z
UID:a398ec999a42c90ebecb3e3b84b21ac8
CREATED;VALUE=DATE-TIME:20221103T000000Z
CATEGORIES:Infantils
LOCATION:Sala d'Actes de la Biblioteca - C. Bonaire, 3
ORGANIZER:Biblioteca - Regidoria de Cultura
DESCRIPTION:a càrrec de Núria Massuet
URL:https://arenysdemar.cat/document.php?id=42894
END:VEVENT
END:VCALENDAR