BEGIN:VCALENDAR
VERSION:2.0
PRODID:-//Plone.org//NONSGML plone.app.event//EN
X-WR-TIMEZONE:Europe/Madrid
BEGIN:VEVENT
SUMMARY:Sortida a Espot Esquí
DTSTART;TZID=Europe/Madrid;VALUE=DATE-TIME:20230121T050000
DTEND;TZID=Europe/Madrid;VALUE=DATE-TIME:20230121T060000
DTSTAMP;VALUE=DATE-TIME:20260424T213757Z
UID:8a91d019b5b7b3d29914966cb9eb2865
CREATED;VALUE=DATE-TIME:20230121T000000Z
CATEGORIES:Esports
LOCATION:Parada Bus davant C.C. Calisay
ORGANIZER:Associació Ski Arenys
COMMENT:Preu: 114 &euro; esquiadors i 72 &euro; no esquiadors. Per a més informació i reserves envieu correu electrònic a skiarenys@gmail.com
Durada: Sortida el 21 de gener a les 5.00 del matí / Tornada el 23 de gener a les 21.00
DESCRIPTION:Cap de setmana a la neu
URL:https://arenysdemar.cat/document.php?id=42921
END:VEVENT
END:VCALENDAR