BEGIN:VCALENDAR
VERSION:2.0
PRODID:-//Plone.org//NONSGML plone.app.event//EN
X-WR-TIMEZONE:Europe/Madrid
BEGIN:VEVENT
SUMMARY:Hora del conte especial Nadal: Contes amb gust de torrons
DTSTART;TZID=Europe/Madrid;VALUE=DATE-TIME:20221215T180000
DTEND;TZID=Europe/Madrid;VALUE=DATE-TIME:20221215T190000
DTSTAMP;VALUE=DATE-TIME:20260422T000958Z
UID:8d197caeb91a6fcb8e6d05091ce83768
CREATED;VALUE=DATE-TIME:20221215T000000Z
CATEGORIES:Infantils
LOCATION:Sala d'Actes de la Biblioteca - C. Bonaire, 3
ORGANIZER:Biblioteca - Regidoria de Cultura
DESCRIPTION:a carrec de la Clara Gavaldà. Activitat recomanada per a infants a partir de 4 anys
URL:https://arenysdemar.cat/document.php?id=43000
END:VEVENT
END:VCALENDAR