BEGIN:VCALENDAR
VERSION:2.0
PRODID:-//Plone.org//NONSGML plone.app.event//EN
X-WR-TIMEZONE:Europe/Madrid
BEGIN:VEVENT
SUMMARY:Taller de tions
DTSTART;TZID=Europe/Madrid;VALUE=DATE-TIME:20221211T121500
DTEND;TZID=Europe/Madrid;VALUE=DATE-TIME:20221211T131500
DTSTAMP;VALUE=DATE-TIME:20260420T171117Z
UID:e7f49f3d41241e516f58deebdf51420a
CREATED;VALUE=DATE-TIME:20221211T000000Z
CATEGORIES:Festa,Infantils
LOCATION:Pati del C.C.Calisay - Riera del Pare Fita, 31
ORGANIZER:Regidoria de Festes i l'Associació Ca La Rita
DESCRIPTION:Fes el teu Tió! Trobaràs més informació en aquest enllaç
URL:https://arenysdemar.cat/document.php?id=43030
END:VEVENT
END:VCALENDAR