BEGIN:VCALENDAR
VERSION:2.0
PRODID:-//Plone.org//NONSGML plone.app.event//EN
X-WR-TIMEZONE:Europe/Madrid
BEGIN:VEVENT
SUMMARY:Visita de la Patgessa Reial Shiva-tah
DTSTART;TZID=Europe/Madrid;VALUE=DATE-TIME:20221231T110000
DTEND;TZID=Europe/Madrid;VALUE=DATE-TIME:20221231T120000
DTSTAMP;VALUE=DATE-TIME:20260424T043242Z
UID:cc59e4c78278dfa0510d88d501e41963
CREATED;VALUE=DATE-TIME:20221231T000000Z
CATEGORIES:Infantils
LOCATION:Plaça de l'Església - Plaça de l'Església
ORGANIZER:Regidoria de Festes i l'Associació Cavalcada de Reis
DESCRIPTION:Trobareu més informació en aquest enllaç
URL:https://arenysdemar.cat/document.php?id=43036
END:VEVENT
END:VCALENDAR