BEGIN:VCALENDAR
VERSION:2.0
PRODID:-//Plone.org//NONSGML plone.app.event//EN
X-WR-TIMEZONE:Europe/Madrid
BEGIN:VEVENT
SUMMARY:3a Sessió Consell d'Infants
DTSTART;TZID=Europe/Madrid;VALUE=DATE-TIME:20230123T173000
DTEND;TZID=Europe/Madrid;VALUE=DATE-TIME:20230123T183000
DTSTAMP;VALUE=DATE-TIME:20260421T053825Z
UID:ff538bfbc4d9cb7e987ef123b828250d
CREATED;VALUE=DATE-TIME:20230123T000000Z
CATEGORIES:Consells municipals
LOCATION:Espai Jove del C.C.Calisay - Riera del Pare Fita, 31
ORGANIZER:Regidoria d'Infància i Joventut
URL:https://arenysdemar.cat/document.php?id=43109
END:VEVENT
END:VCALENDAR