BEGIN:VCALENDAR
VERSION:2.0
PRODID:-//Plone.org//NONSGML plone.app.event//EN
X-WR-TIMEZONE:Europe/Madrid
BEGIN:VEVENT
SUMMARY:Xerrada Consells de Seguretat
DTSTART;TZID=Europe/Madrid;VALUE=DATE-TIME:20221215T110000
DTEND;TZID=Europe/Madrid;VALUE=DATE-TIME:20221215T120000
DTSTAMP;VALUE=DATE-TIME:20260422T032257Z
UID:de27902241a57af88a67d77f06b08ded
CREATED;VALUE=DATE-TIME:20221215T000000Z
CATEGORIES:Conferència
LOCATION:Sala Noble del C.C.Calisay - Riera Pare Fita, 31
ORGANIZER:Regidoria de Gent Gran
DESCRIPTION:a càrrec dels Mossos d'Esquadra d'Arenys de Mar
URL:https://arenysdemar.cat/document.php?id=43158
END:VEVENT
END:VCALENDAR