BEGIN:VCALENDAR
VERSION:2.0
PRODID:-//Plone.org//NONSGML plone.app.event//EN
X-WR-TIMEZONE:Europe/Madrid
BEGIN:VEVENT
SUMMARY:Conferència d'Actualitat: ¿Cual es mi género? El que me da la gana. Arte e identidades disidentes
DTSTART;TZID=Europe/Madrid;VALUE=DATE-TIME:20230314T180000
DTEND;TZID=Europe/Madrid;VALUE=DATE-TIME:20230314T190000
DTSTAMP;VALUE=DATE-TIME:20260424T051239Z
UID:6ad236982ecfb6f4589e2a4b5e92e6da
CREATED;VALUE=DATE-TIME:20230314T000000Z
CATEGORIES:Conferència
LOCATION:Sala Josep Maria Arnau del C.C.Calisay - Riera del Pare Fita, 31
ORGANIZER:Aula d'Extensió Universitària
DESCRIPTION:a càrrec de Diego Marchante Hueso, professor d'Audiovisuals i Estudis de gènere de la Universitat de Barcelona
URL:https://arenysdemar.cat/document.php?id=43161
END:VEVENT
END:VCALENDAR