BEGIN:VCALENDAR
VERSION:2.0
PRODID:-//Plone.org//NONSGML plone.app.event//EN
X-WR-TIMEZONE:Europe/Madrid
BEGIN:VEVENT
SUMMARY:Conferència de Dona Arenyenca: Elvira Elías, il·lustradora
DTSTART;TZID=Europe/Madrid;VALUE=DATE-TIME:20230307T180000
DTEND;TZID=Europe/Madrid;VALUE=DATE-TIME:20230307T190000
DTSTAMP;VALUE=DATE-TIME:20260424T114130Z
UID:bd908b543e4e19a5234083c615784d87
CREATED;VALUE=DATE-TIME:20230307T000000Z
CATEGORIES:Conferència
LOCATION:Sala Josep Maria Arnau del C.C.Calisay - Riera del Pare Fita, 31
ORGANIZER:Aula d'Extensió Universitària
DESCRIPTION:a càrrec de Joan Miquel Llodrà Nogueras, historiador de l'art
URL:https://arenysdemar.cat/document.php?id=43162
END:VEVENT
END:VCALENDAR