BEGIN:VCALENDAR
VERSION:2.0
PRODID:-//Plone.org//NONSGML plone.app.event//EN
X-WR-TIMEZONE:Europe/Madrid
BEGIN:VEVENT
SUMMARY:Conferència d'Astronomia: La fortuna de la vida
DTSTART;TZID=Europe/Madrid;VALUE=DATE-TIME:20230207T180000
DTEND;TZID=Europe/Madrid;VALUE=DATE-TIME:20230207T190000
DTSTAMP;VALUE=DATE-TIME:20260424T030544Z
UID:6be1a1cf39a8a179f4919fd99800d2f3
CREATED;VALUE=DATE-TIME:20230207T000000Z
CATEGORIES:Conferència
LOCATION:Sala Josep Maria Arnau del C.C.Calisay - Riera del Pare Fita, 31
ORGANIZER:Aula d'Extensió Universitària
DESCRIPTION:a càrrec de Joan Anton Català Amigó, divulgador científic d'astronomia i astrofísica
URL:https://arenysdemar.cat/document.php?id=43166
END:VEVENT
END:VCALENDAR