BEGIN:VCALENDAR
VERSION:2.0
PRODID:-//Plone.org//NONSGML plone.app.event//EN
X-WR-TIMEZONE:Europe/Madrid
BEGIN:VEVENT
SUMMARY:ACTIVITAT AJORNADA Cicle de tallers de compostatge
DTSTART;TZID=Europe/Madrid;VALUE=DATE-TIME:20221215T183000
DTEND;TZID=Europe/Madrid;VALUE=DATE-TIME:20221215T193000
DTSTAMP;VALUE=DATE-TIME:20260422T015043Z
UID:9c2940bd1795427bcaf8d1f9bc32ee3d
CREATED;VALUE=DATE-TIME:20221215T000000Z
CATEGORIES:Tallers,Medi ambient
LOCATION:Aula d'entitats del C.C. Calisay - Riera del Pare Fita, 31
ORGANIZER:Equip d'educació ambiental de la campanya ARENYS HO APORTA TOT i Ajuntament d'Arenys de Mar
COMMENT:Preu: Gratuïta
Durada: Fins a les 20 h
DESCRIPTION:1a sessió teòrica
URL:https://arenysdemar.cat/document.php?id=43172
END:VEVENT
END:VCALENDAR