BEGIN:VCALENDAR
VERSION:2.0
PRODID:-//Plone.org//NONSGML plone.app.event//EN
X-WR-TIMEZONE:Europe/Madrid
BEGIN:VEVENT
SUMMARY:Ball del dissabte
DTSTART;TZID=Europe/Madrid;VALUE=DATE-TIME:20230121T213000
DTEND;TZID=Europe/Madrid;VALUE=DATE-TIME:20230121T223000
DTSTAMP;VALUE=DATE-TIME:20260420T204200Z
UID:92873377020bd14b09a9dd4eb01f3d87
CREATED;VALUE=DATE-TIME:20230121T000000Z
CATEGORIES:Música
LOCATION:Ateneu Arenyenc - Anselm Clavé, 22
ORGANIZER:Ateneu Arenyenc
COMMENT:Preu: Soci + acompanyant 7&euro; per persona i general 10 &euro;
DESCRIPTION:amb l'actuació del Duet Cabana
URL:https://arenysdemar.cat/document.php?id=43243
END:VEVENT
END:VCALENDAR