BEGIN:VCALENDAR
VERSION:2.0
PRODID:-//Plone.org//NONSGML plone.app.event//EN
X-WR-TIMEZONE:Europe/Madrid
BEGIN:VEVENT
SUMMARY:Presentació Equips Arenys Bàsquet temporada 2022-23
DTSTART;TZID=Europe/Madrid;VALUE=DATE-TIME:20230108T180000
DTEND;TZID=Europe/Madrid;VALUE=DATE-TIME:20230108T190000
DTSTAMP;VALUE=DATE-TIME:20260422T010526Z
UID:0150a5af3f2be4e8bb87bac21b4cf9af
CREATED;VALUE=DATE-TIME:20230108T000000Z
CATEGORIES:Esports
LOCATION:CE Fondo de les Creus - Fondo de les Creus, s/n
ORGANIZER:Arenys Bàsquet
COMMENT:Durada: 1h
URL:https://arenysdemar.cat/document.php?id=43249
END:VEVENT
END:VCALENDAR