BEGIN:VCALENDAR
VERSION:2.0
PRODID:-//Plone.org//NONSGML plone.app.event//EN
X-WR-TIMEZONE:Europe/Madrid
BEGIN:VEVENT
SUMMARY:Tapes al Mercat d'Arenys
DTSTART;TZID=Europe/Madrid;VALUE=DATE-TIME:20230526T200000
DTEND;TZID=Europe/Madrid;VALUE=DATE-TIME:20230526T210000
DTSTAMP;VALUE=DATE-TIME:20260424T235601Z
UID:d0b79c0a31bf4dddc4b6e829642e1bd1
CREATED;VALUE=DATE-TIME:20230526T000000Z
CATEGORIES:Festa
LOCATION:Mercat municipal - Riera Bisbe Pol, 82
ORGANIZER:Regidoria de Promoció Econòmica
COMMENT:Preu: Entrada gratuïta
Durada: De 20:00h a 00:00h
DESCRIPTION:Jornada Gastronòmica
URL:https://arenysdemar.cat/document.php?id=43316
END:VEVENT
END:VCALENDAR