BEGIN:VCALENDAR
VERSION:2.0
PRODID:-//Plone.org//NONSGML plone.app.event//EN
X-WR-TIMEZONE:Europe/Madrid
BEGIN:VEVENT
SUMMARY:Fira de Brocanters
DTSTART;TZID=Europe/Madrid;VALUE=DATE-TIME:20230514T100000
DTEND;TZID=Europe/Madrid;VALUE=DATE-TIME:20230514T110000
DTSTAMP;VALUE=DATE-TIME:20260421T180926Z
UID:c2b56b742320f9028501a05b16471ade
CREATED;VALUE=DATE-TIME:20230514T000000Z
CATEGORIES:Mostra
LOCATION:Riera, davant del C.C. Calisay
ORGANIZER:Crisàlide
COMMENT:Preu: Gratuït
Durada: Fins a les 14h del migdia
URL:https://arenysdemar.cat/document.php?id=43365
END:VEVENT
END:VCALENDAR