BEGIN:VCALENDAR
VERSION:2.0
PRODID:-//Plone.org//NONSGML plone.app.event//EN
X-WR-TIMEZONE:Europe/Madrid
BEGIN:VEVENT
SUMMARY:2a Fira del Disc
DTSTART;TZID=Europe/Madrid;VALUE=DATE-TIME:20231012T100000
DTEND;TZID=Europe/Madrid;VALUE=DATE-TIME:20231012T110000
DTSTAMP;VALUE=DATE-TIME:20260424T054356Z
UID:56434fd6c60474dea31274f731d64076
CREATED;VALUE=DATE-TIME:20231012T000000Z
CATEGORIES:Mostra
LOCATION:Plaça de l'Església - Plaça de l'Església
ORGANIZER:Crisàlide
COMMENT:Preu: Gratuït
Durada: Tot el dia
URL:https://arenysdemar.cat/document.php?id=43384
END:VEVENT
END:VCALENDAR