BEGIN:VCALENDAR
VERSION:2.0
PRODID:-//Plone.org//NONSGML plone.app.event//EN
X-WR-TIMEZONE:Europe/Madrid
BEGIN:VEVENT
SUMMARY:Esquiada a Porté Puymorens
DTSTART;TZID=Europe/Madrid;VALUE=DATE-TIME:20230319T060000
DTEND;TZID=Europe/Madrid;VALUE=DATE-TIME:20230319T070000
DTSTAMP;VALUE=DATE-TIME:20260424T051046Z
UID:70a1b84889dcb825a0fd0c1105db55a5
CREATED;VALUE=DATE-TIME:20230319T000000Z
CATEGORIES:Esports
LOCATION:Parada Bus davant C.C. Calisay
ORGANIZER:Associació Ski Arenys
COMMENT:Preu: 44&euro;
Durada: Sortida a les 6.00 del matí / Tornada a les 20.00
DESCRIPTION:Un dia a la neu
URL:https://arenysdemar.cat/document.php?id=43385
END:VEVENT
END:VCALENDAR