BEGIN:VCALENDAR
VERSION:2.0
PRODID:-//Plone.org//NONSGML plone.app.event//EN
X-WR-TIMEZONE:Europe/Madrid
BEGIN:VEVENT
SUMMARY:Presentació del llibre: Singladura de l'atletisme a l'Alt Maresme. 1915 - 2020 de Josep Cortés
DTSTART;TZID=Europe/Madrid;VALUE=DATE-TIME:20230310T190000
DTEND;TZID=Europe/Madrid;VALUE=DATE-TIME:20230310T200000
DTSTAMP;VALUE=DATE-TIME:20260424T114232Z
UID:9ef037b70c26376734c237545892639e
CREATED;VALUE=DATE-TIME:20230310T000000Z
CATEGORIES:Esports,Literatura
LOCATION:Sala d'Actes de la Biblioteca - C. Bonaire, 3
ORGANIZER:Penya Apa Anem-hi i Regidoria d'Esports
DESCRIPTION:Acte enmarcat dins la celebració dels 40 anys de la Penya Apa Anem-hi
URL:https://arenysdemar.cat/document.php?id=43407
END:VEVENT
END:VCALENDAR