BEGIN:VCALENDAR
VERSION:2.0
PRODID:-//Plone.org//NONSGML plone.app.event//EN
X-WR-TIMEZONE:Europe/Madrid
BEGIN:VEVENT
SUMMARY:Dijous sardanes
DTSTART;TZID=Europe/Madrid;VALUE=DATE-TIME:20230713T190000
DTEND;TZID=Europe/Madrid;VALUE=DATE-TIME:20230713T200000
DTSTAMP;VALUE=DATE-TIME:20260423T145125Z
UID:38c6651107414deef96b7c0cad88d4b6
CREATED;VALUE=DATE-TIME:20230713T000000Z
CATEGORIES:Música
LOCATION:Plaça de l'Església - Plaça de l'Església
ORGANIZER:Regidoria de Cultura i secció sardanista de l'Ateneu Arenyenc
DESCRIPTION:amb la Cobla Premià
URL:https://arenysdemar.cat/document.php?id=43454
END:VEVENT
END:VCALENDAR