BEGIN:VCALENDAR
VERSION:2.0
PRODID:-//Plone.org//NONSGML plone.app.event//EN
X-WR-TIMEZONE:Europe/Madrid
BEGIN:VEVENT
SUMMARY:Audició de sardanes
DTSTART;TZID=Europe/Madrid;VALUE=DATE-TIME:20230910T190000
DTEND;TZID=Europe/Madrid;VALUE=DATE-TIME:20230910T200000
DTSTAMP;VALUE=DATE-TIME:20260423T134206Z
UID:7798bc00be005d2213f7af10c115a12e
CREATED;VALUE=DATE-TIME:20230910T000000Z
LOCATION:Plaça de l'Església - Plaça de l'Església
ORGANIZER:Ajuntament d'Arenys de Mar i secció sardanista de l'Ateneu Arenyenc
DESCRIPTION:amb la Cobla Ciutat de Terrassa
URL:https://arenysdemar.cat/document.php?id=43460
END:VEVENT
END:VCALENDAR