BEGIN:VCALENDAR
VERSION:2.0
PRODID:-//Plone.org//NONSGML plone.app.event//EN
X-WR-TIMEZONE:Europe/Madrid
BEGIN:VEVENT
SUMMARY:Llegir el teatre: Vent de Garbí i una mica de por de M. Aurèlia Capmany
DTSTART;TZID=Europe/Madrid;VALUE=DATE-TIME:20230314T193000
DTEND;TZID=Europe/Madrid;VALUE=DATE-TIME:20230314T203000
DTSTAMP;VALUE=DATE-TIME:20260424T051213Z
UID:19b23d6c3944c33b59799e18a98161f5
CREATED;VALUE=DATE-TIME:20230314T000000Z
CATEGORIES:Literatura,Teatre
LOCATION:Sala d'Actes de la Biblioteca - C. Bonaire, 3
ORGANIZER:Biblioteca - Regidoria de Cultura
DESCRIPTION:a càrrec de Marina Torres
URL:https://arenysdemar.cat/document.php?id=43470
END:VEVENT
END:VCALENDAR