BEGIN:VCALENDAR
VERSION:2.0
PRODID:-//Plone.org//NONSGML plone.app.event//EN
X-WR-TIMEZONE:Europe/Madrid
BEGIN:VEVENT
SUMMARY:Hora del conte: T'estimo quasi sempre
DTSTART;TZID=Europe/Madrid;VALUE=DATE-TIME:20230316T180000
DTEND;TZID=Europe/Madrid;VALUE=DATE-TIME:20230316T190000
DTSTAMP;VALUE=DATE-TIME:20260424T114344Z
UID:0734a2627c60cb81e78ef8ded0ceb8da
CREATED;VALUE=DATE-TIME:20230316T000000Z
CATEGORIES:Infantils
LOCATION:Sala d'Actes de la Biblioteca - C. Bonaire, 3
ORGANIZER:Sala d'Actes de la Biblioteca
DESCRIPTION:a càrrec d'Ingrid Lorenzo. Activitat recomanada per a infants a partir de 4 anys
URL:https://arenysdemar.cat/document.php?id=43483
END:VEVENT
END:VCALENDAR