BEGIN:VCALENDAR
VERSION:2.0
PRODID:-//Plone.org//NONSGML plone.app.event//EN
X-WR-TIMEZONE:Europe/Madrid
BEGIN:VEVENT
SUMMARY:Hora del conte: "Especial Dia de la Poesia"
DTSTART;TZID=Europe/Madrid;VALUE=DATE-TIME:20230323T180000
DTEND;TZID=Europe/Madrid;VALUE=DATE-TIME:20230323T190000
DTSTAMP;VALUE=DATE-TIME:20260424T083101Z
UID:3134349e1e88d4393c3eb1840f50578a
CREATED;VALUE=DATE-TIME:20230323T000000Z
CATEGORIES:Infantils
LOCATION:Sala d'Actes de la Biblioteca - C. Bonaire, 3
ORGANIZER:Biblioteca - Regidoria de Cultura
DESCRIPTION:a càrrec de la Marta del Castillo.  Activitat recomanada per a infants a partir de 4 anys.
URL:https://arenysdemar.cat/document.php?id=43484
END:VEVENT
END:VCALENDAR