BEGIN:VCALENDAR
VERSION:2.0
PRODID:-//Plone.org//NONSGML plone.app.event//EN
X-WR-TIMEZONE:Europe/Madrid
BEGIN:VEVENT
SUMMARY:Dia Internacional de les Dones
DTSTART;TZID=Europe/Madrid;VALUE=DATE-TIME:20230308T181500
DTEND;TZID=Europe/Madrid;VALUE=DATE-TIME:20230308T191500
DTSTAMP;VALUE=DATE-TIME:20260424T114330Z
UID:92a3cf615b9e86b83f39ef5900930301
CREATED;VALUE=DATE-TIME:20230308T000000Z
CATEGORIES:Conferència
LOCATION:Sala Josep Maria Arnau del C.C.Calisay - Riera del Pare Fita, 31
ORGANIZER:Regidoria de Drets Civils (Igualtat)
DESCRIPTION:Taula Rodona: Recuperem la memòria històrica amb dones d'Arenys de Mar
URL:https://arenysdemar.cat/document.php?id=43519
END:VEVENT
END:VCALENDAR