BEGIN:VCALENDAR
VERSION:2.0
PRODID:-//Plone.org//NONSGML plone.app.event//EN
X-WR-TIMEZONE:Europe/Madrid
BEGIN:VEVENT
SUMMARY:Acte de donació
DTSTART;TZID=Europe/Madrid;VALUE=DATE-TIME:20230312T120000
DTEND;TZID=Europe/Madrid;VALUE=DATE-TIME:20230312T130000
DTSTAMP;VALUE=DATE-TIME:20260424T065855Z
UID:c30cddb2c7aa62546594b7c4d5fa6a26
CREATED;VALUE=DATE-TIME:20230312T000000Z
CATEGORIES:Exposició
LOCATION:Cementiri d'Arenys de Mar
ORGANIZER:Ajuntament d'Arenys de Mar
DESCRIPTION:M. Àngels Domingo Laplana (MADOLA) fa donació a la població d'Arenys de Mar de 40 ceràmiques inpirades en el Llibre de Sinera de Salvador Espriu
URL:https://arenysdemar.cat/document.php?id=43535
END:VEVENT
END:VCALENDAR