BEGIN:VCALENDAR
VERSION:2.0
PRODID:-//Plone.org//NONSGML plone.app.event//EN
X-WR-TIMEZONE:Europe/Madrid
BEGIN:VEVENT
SUMMARY:Xerrada: La gestió de residus a Arenys de Mar
DTSTART;TZID=Europe/Madrid;VALUE=DATE-TIME:20230323T180000
DTEND;TZID=Europe/Madrid;VALUE=DATE-TIME:20230323T190000
DTSTAMP;VALUE=DATE-TIME:20260424T164229Z
UID:bd8fab3a7c401db512ed9e0b396da2a9
CREATED;VALUE=DATE-TIME:20230323T000000Z
CATEGORIES:Medi ambient
LOCATION:Sala Noble del C.C.Calisay - Riera Pare Fita, 31
ORGANIZER:Arenys Ho Aporta Tot
COMMENT:Preu: Gratuït
Durada: Fins a les 20h
URL:https://arenysdemar.cat/document.php?id=43558
END:VEVENT
END:VCALENDAR