BEGIN:VCALENDAR
VERSION:2.0
PRODID:-//Plone.org//NONSGML plone.app.event//EN
X-WR-TIMEZONE:Europe/Madrid
BEGIN:VEVENT
SUMMARY:Xerrada: La recollida selectiva i el reciclatge
DTSTART;TZID=Europe/Madrid;VALUE=DATE-TIME:20230309T180000
DTEND;TZID=Europe/Madrid;VALUE=DATE-TIME:20230309T190000
DTSTAMP;VALUE=DATE-TIME:20260424T114247Z
UID:c9be74d6ce71a958394a413570c493e9
CREATED;VALUE=DATE-TIME:20230309T000000Z
CATEGORIES:Medi ambient
LOCATION:Sala Noble del C.C.Calisay - Riera Pare Fita, 31
ORGANIZER:Arenys Ho Aporta Tot
COMMENT:Preu: Gratuït
Durada: Fins a les 20h
URL:https://arenysdemar.cat/document.php?id=43559
END:VEVENT
END:VCALENDAR