BEGIN:VCALENDAR
VERSION:2.0
PRODID:-//Plone.org//NONSGML plone.app.event//EN
X-WR-TIMEZONE:Europe/Madrid
BEGIN:VEVENT
SUMMARY:Marató de lectura de Roald  Dahl
DTSTART;TZID=Europe/Madrid;VALUE=DATE-TIME:20230324T180000
DTEND;TZID=Europe/Madrid;VALUE=DATE-TIME:20230324T190000
DTSTAMP;VALUE=DATE-TIME:20260424T114314Z
UID:6aa7812c3818485bc028132815cb83ee
CREATED;VALUE=DATE-TIME:20230324T000000Z
CATEGORIES:Literatura,Infantils
LOCATION:Sala infantil de la Biblioteca
ORGANIZER:Biblioteca - Regidoria de Cultura
DESCRIPTION:a càrrec d'Ivana Ares
URL:https://arenysdemar.cat/document.php?id=43589
END:VEVENT
END:VCALENDAR